BEGIN:VCALENDAR
PRODID:-//github.com/rianjs/ical.net//NONSGML ical.net 4.0//EN
VERSION:2.0
BEGIN:VTIMEZONE
TZID:Eastern Standard Time
X-LIC-LOCATION:America/New_York
BEGIN:STANDARD
DTSTART:20241103T020000
RRULE:FREQ=YEARLY;BYDAY=1SU;BYMONTH=11
TZNAME:EST
TZOFFSETFROM:-0400
TZOFFSETTO:-0500
END:STANDARD
BEGIN:DAYLIGHT
DTSTART:20250309T020000
RRULE:FREQ=YEARLY;BYDAY=2SU;BYMONTH=3
TZNAME:EDT
TZOFFSETFROM:-0500
TZOFFSETTO:-0400
END:DAYLIGHT
END:VTIMEZONE
BEGIN:VEVENT
DESCRIPTION:On event day join us here - https://www.eventbrite.com/e/29th-
 annual-dsc-diabetes-symposium-tickets-1979716535450?aff=eivtefrnd&utm_sha
 re_source=listing_android&sg=f9254b579404e607f4878fc9277540cce95c374a9e4b
 e69f3fe4bd7a6d2afeef68ef7309f97f877c9f14a213e2d6e72878ff656569a1a9e1ec9ae
 2975ae5223e1c14c58404bdc2b67352a78e1b&utm_source=SCORH+Rural+Focus+Newsle
 tter&utm_campaign=e120de27a0-EMAIL_CAMPAIGN_2019_11_29_COPY_01&utm_medium
 =email&utm_term=0_5068cbfecc-e120de27a0-354709626&mc_cid=e120de27a0&mc_ei
 d=7c8785d335\n\n
DTEND;TZID=Eastern Standard Time;VALUE=DATE:20260425
DTSTAMP:20260423T092405Z
DTSTART;TZID=Eastern Standard Time;VALUE=DATE:20260424
LOCATION:https://www.eventbrite.com/e/29th-annual-dsc-diabetes-symposium-t
 ickets-1979716535450?aff=eivtefrnd&utm_share_source=listing_android&sg=f9
 254b579404e607f4878fc9277540cce95c374a9e4be69f3fe4bd7a6d2afeef68ef7309f97
 f877c9f14a213e2d6e72878ff656569a1a9e1ec9ae2975ae5223e1c14c58404bdc2b67352
 a78e1b&utm_source=SCORH+Rural+Focus+Newsletter&utm_campaign=e120de27a0-EM
 AIL_CAMPAIGN_2019_11_29_COPY_01&utm_medium=email&utm_term=0_5068cbfecc-e1
 20de27a0-354709626&mc_cid=e120de27a0&mc_eid=7c8785d335
ORGANIZER;CN=;SENT-BY="mailto:":
SEQUENCE:0
SUMMARY:SCCHWA: 29th Annual DSC Diabetes Symposium
UID:462986f0-6a17-4cf8-8db5-c9ef3f958ad4
END:VEVENT
END:VCALENDAR
